BEGIN:VCALENDAR
VERSION:2.0
PRODID:-//Waverley City Archers Inc. - ECPv6.15.20//NONSGML v1.0//EN
CALSCALE:GREGORIAN
METHOD:PUBLISH
X-ORIGINAL-URL:https://waverleycityarchers.org.au
X-WR-CALDESC:Events for Waverley City Archers Inc.
REFRESH-INTERVAL;VALUE=DURATION:PT1H
X-Robots-Tag:noindex
X-PUBLISHED-TTL:PT1H
BEGIN:VTIMEZONE
TZID:Australia/Melbourne
BEGIN:STANDARD
TZOFFSETFROM:+1100
TZOFFSETTO:+1000
TZNAME:AEST
DTSTART:20240406T160000
END:STANDARD
BEGIN:DAYLIGHT
TZOFFSETFROM:+1000
TZOFFSETTO:+1100
TZNAME:AEDT
DTSTART:20241005T160000
END:DAYLIGHT
BEGIN:STANDARD
TZOFFSETFROM:+1100
TZOFFSETTO:+1000
TZNAME:AEST
DTSTART:20250405T160000
END:STANDARD
BEGIN:DAYLIGHT
TZOFFSETFROM:+1000
TZOFFSETTO:+1100
TZNAME:AEDT
DTSTART:20251004T160000
END:DAYLIGHT
BEGIN:STANDARD
TZOFFSETFROM:+1100
TZOFFSETTO:+1000
TZNAME:AEST
DTSTART:20260404T160000
END:STANDARD
BEGIN:DAYLIGHT
TZOFFSETFROM:+1000
TZOFFSETTO:+1100
TZNAME:AEDT
DTSTART:20261003T160000
END:DAYLIGHT
END:VTIMEZONE
BEGIN:VEVENT
DTSTART;TZID=Australia/Melbourne:20250518T080000
DTEND;TZID=Australia/Melbourne:20250518T160000
DTSTAMP:20260422T200118
CREATED:20240215T091447Z
LAST-MODIFIED:20250106T090834Z
UID:3156-1747555200-1747584000@waverleycityarchers.org.au
SUMMARY:2025 WCA 720 AV Grand Prix
DESCRIPTION:
URL:https://waverleycityarchers.org.au/event/2025-wca-720-av-grand-prix-18052025/
LOCATION:Waverley City Archers\, Freeway Reserve\, Kernot Avenue\, Mulgrave\, Victoria
CATEGORIES:WCA Tournaments
END:VEVENT
BEGIN:VEVENT
DTSTART;TZID=Australia/Melbourne:20250531T130000
DTEND;TZID=Australia/Melbourne:20250531T160000
DTSTAMP:20260422T200118
CREATED:20240215T103313Z
LAST-MODIFIED:20250107T070738Z
UID:3193-1748696400-1748707200@waverleycityarchers.org.au
SUMMARY:2025 Waverley Shield
DESCRIPTION:
URL:https://waverleycityarchers.org.au/event/2025-waverley-shield-31052025/
LOCATION:Waverley City Archers\, Freeway Reserve\, Kernot Avenue\, Mulgrave\, Victoria
CATEGORIES:WCA Tournaments
END:VEVENT
END:VCALENDAR